BEGIN:VCALENDAR
VERSION:2.0
PRODID:-//Seggelke Klarinetten GmbH | Bamberg - ECPv6.15.17.1//NONSGML v1.0//EN
CALSCALE:GREGORIAN
METHOD:PUBLISH
X-WR-CALNAME:Seggelke Klarinetten GmbH | Bamberg
X-ORIGINAL-URL:https://seggelke-staging.sech-dev.de
X-WR-CALDESC:Veranstaltungen für Seggelke Klarinetten GmbH | Bamberg
REFRESH-INTERVAL;VALUE=DURATION:PT1H
X-Robots-Tag:noindex
X-PUBLISHED-TTL:PT1H
BEGIN:VTIMEZONE
TZID:Europe/Berlin
BEGIN:DAYLIGHT
TZOFFSETFROM:+0100
TZOFFSETTO:+0200
TZNAME:CEST
DTSTART:20240331T010000
END:DAYLIGHT
BEGIN:STANDARD
TZOFFSETFROM:+0200
TZOFFSETTO:+0100
TZNAME:CET
DTSTART:20241027T010000
END:STANDARD
BEGIN:DAYLIGHT
TZOFFSETFROM:+0100
TZOFFSETTO:+0200
TZNAME:CEST
DTSTART:20250330T010000
END:DAYLIGHT
BEGIN:STANDARD
TZOFFSETFROM:+0200
TZOFFSETTO:+0100
TZNAME:CET
DTSTART:20251026T010000
END:STANDARD
BEGIN:DAYLIGHT
TZOFFSETFROM:+0100
TZOFFSETTO:+0200
TZNAME:CEST
DTSTART:20260329T010000
END:DAYLIGHT
BEGIN:STANDARD
TZOFFSETFROM:+0200
TZOFFSETTO:+0100
TZNAME:CET
DTSTART:20261025T010000
END:STANDARD
END:VTIMEZONE
BEGIN:VEVENT
DTSTART;TZID=Europe/Berlin:20250213T140000
DTEND;TZID=Europe/Berlin:20250216T150000
DTSTAMP:20260423T102832
CREATED:20241119T085544Z
LAST-MODIFIED:20241129T084824Z
UID:10000001-1739455200-1739718000@seggelke-staging.sech-dev.de
SUMMARY:Ausgebucht: Meisterkurs mit Prof. Shirley Brill in Bamberg
DESCRIPTION:Vom 13. bis 16. Februar 2025 gibt Prof. Shirley Brill (Hochschule für Musik Nürnberg) einen Meisterkurs in den Räumen von Seggelke Klarinetten in Bamberg. \nDieser richtet sich an Studierende im Fach Klarinette und KlarinettistInnen mit Studienwunsch.\nJeder Teilnehmende erhält drei Stunden (á 60 min) Einzelunterricht von Prof. Shirley Brill. Außerdem gibt Jochen Seggelke eine Führung für alle Teilnehmenden durch die Werkstatt der Klarinettenmanufaktur.\nZum Abschluss findet am Sonntag ein öffentliches Konzert mit allen Teilnehmenden in der KLAngwerkstatt von Seggelke Klarinetten statt.\nDie Teilnehmerzahl ist auf sechs Personen begrenzt. \nKursdaten\nKursort: Seggelke Klarinetten\, Obere Königstraße 15\, 96052 Bamberg\nKursbeginn: Donnerstag\, 13. Februar 2025\, 14 Uhr\nKursende: Sonntag\, 16. Februar 2025\, nach dem Abschlusskonzert\, ca. 15 Uhr\nKursgebühr: 300 €. Zur Bestätigung der Teilnahme ist eine Anzahlung von 100 € nötig.\nÜbernachtung: auf eigene Kosten\, selbstorganisiert. \nDozentin: Prof. Shirley Brill\, Hochschule für Musik\, Nürnberg\nKlavierkorrepetition: Heejung Kim\, Hochschule für Musik\, Nürnberg\nZu den Biografien der Dozentinnen \nAnmeldung\nBitte senden Sie Ihre Anmeldung bis Sonntag\, 12. Januar 2025 an info@seggelke-klarinetten.de\nBetreff: „Meisterkurs Shirley Brill“ und teilen uns die folgenden Angaben mit: \n\nName\nAnschrift\nE-Mail\nTelefonnummer\nAusbildungsstatus (Studienvorbereitung / Studium / …)\nLiteraturwünsche.\n\nSie erhalten eine Rechnung über die Anzahlung von 100€ zur Bestätigung der Anmeldung.\nDie Zusage erfolgt in der Reihenfolge der erfolgreichen Anmeldung\, nach Rücksprache mit der Dozentin. \nDatenschutz: Mit der Anmeldung stimmen Sie zu\, dass die Daten an Prof. Shirley Brill zur Vorbereitung des Kurses weitergegeben werden dürfen.
URL:https://seggelke-staging.sech-dev.de/veranstaltung/meisterkurs-mit-prof-shirley-brill-in-bamberg/
LOCATION:Seggelke Klarinetten\, Obere Königstraße 15\, Bamberg\, Bayern\, 96052\, Germany
ATTACH;FMTTYPE=image/jpeg:https://seggelke-staging.sech-dev.de/wp-content/uploads/2024/06/C4F67B2F-B073-4455-82AD-873C33951954-2.jpeg_compressed-e1719315906600.jpeg
END:VEVENT
BEGIN:VEVENT
DTSTART;TZID=Europe/Berlin:20250216T130000
DTEND;TZID=Europe/Berlin:20250216T143000
DTSTAMP:20260423T102832
CREATED:20250120T073011Z
LAST-MODIFIED:20250204T082657Z
UID:10000035-1739710800-1739716200@seggelke-staging.sech-dev.de
SUMMARY:Abschlusskonzert des Meisterkurses
DESCRIPTION:Vom 13. bis 16. Februar 2025 gibt Prof. Shirley Brill (Hochschule für Musik Nürnberg) einen Meisterkurs für Klarinette in den Räumen von Seggelke Klarinetten in Bamberg.\nZum Abschluss findet am Sonntag ein öffentliches Konzert\, bei dem die jungen TeilnehmerInnen das gelernte zu Gehör bringen\, in der KLAngwerkstatt von Seggelke Klarinetten statt. \nDer Eintritt ist frei.
URL:https://seggelke-staging.sech-dev.de/veranstaltung/abschlusskonzert-des-meisterkurses/
LOCATION:Seggelke Klarinetten\, Obere Königstraße 15\, Bamberg\, Bayern\, 96052\, Germany
CATEGORIES:Klangwerkstatt
ATTACH;FMTTYPE=image/jpeg:https://seggelke-staging.sech-dev.de/wp-content/uploads/2024/06/C4F67B2F-B073-4455-82AD-873C33951954-2.jpeg_compressed-e1719315906600.jpeg
END:VEVENT
BEGIN:VEVENT
DTSTART;TZID=Europe/Berlin:20250222T190000
DTEND;TZID=Europe/Berlin:20250222T210000
DTSTAMP:20260423T102832
CREATED:20250117T125721Z
LAST-MODIFIED:20250204T083900Z
UID:10000033-1740250800-1740258000@seggelke-staging.sech-dev.de
SUMMARY:Zizal - Stories
DESCRIPTION:ZIZAL erzählt Geschichten\nZIZAL weckt Emotionen\nZIZAL spielt Musik\, die von Freude und Schmerz erzählt\, die lacht und weint\, sprudelt und zögert\, seufzt und klagt\, singt und jubelt und die ganz eigene Geschichten in jedem Zuhörer zum Klingen bringt. \nZIZAL verbindet Elemente aus Klezmer\, Jazz\, Klassik und lässt auf der Bühne eine einzigartige Musik entstehen\, die von der Spielfreude und Kreativität der drei Musiker lebt. Mit viel Phantasie verbinden sich Klänge von Violine\, Klarinette und Klavier zu einer ganz eigenen Musiksprache\, die am Besten als Welt-Kammermusik bezeichnet werden kann. \nReiner Kuttenberger (Klarinette)\, Sebastian Voltz (Klavier) und David Ignatius (Violine) \nWir freuen uns sehr die Gruppe zum wiederholten Mal in der KLAngwerkstatt zu Gast zu haben\, der Eintritt ist frei aber um eine angemessene Spende für die Musiker wird gebeten.\nWie üblich gibt es in der Pause Getränke&Snacks gegen Spende.
URL:https://seggelke-staging.sech-dev.de/veranstaltung/zizal/
LOCATION:Seggelke Klarinetten\, Obere Königstraße 15\, Bamberg\, Bayern\, 96052\, Germany
CATEGORIES:Klangwerkstatt
ATTACH;FMTTYPE=image/jpeg:https://seggelke-staging.sech-dev.de/wp-content/uploads/2025/01/zizal-scaled.jpg
END:VEVENT
END:VCALENDAR