BEGIN:VCALENDAR
VERSION:2.0
PRODID:-//Seggelke Klarinetten GmbH | Bamberg - ECPv6.15.17.1//NONSGML v1.0//EN
CALSCALE:GREGORIAN
METHOD:PUBLISH
X-ORIGINAL-URL:https://seggelke-staging.sech-dev.de/en/
X-WR-CALDESC:Events for Seggelke Klarinetten GmbH | Bamberg
REFRESH-INTERVAL;VALUE=DURATION:PT1H
X-Robots-Tag:noindex
X-PUBLISHED-TTL:PT1H
BEGIN:VTIMEZONE
TZID:Europe/Berlin
BEGIN:DAYLIGHT
TZOFFSETFROM:+0100
TZOFFSETTO:+0200
TZNAME:CEST
DTSTART:20240331T010000
END:DAYLIGHT
BEGIN:STANDARD
TZOFFSETFROM:+0200
TZOFFSETTO:+0100
TZNAME:CET
DTSTART:20241027T010000
END:STANDARD
BEGIN:DAYLIGHT
TZOFFSETFROM:+0100
TZOFFSETTO:+0200
TZNAME:CEST
DTSTART:20250330T010000
END:DAYLIGHT
BEGIN:STANDARD
TZOFFSETFROM:+0200
TZOFFSETTO:+0100
TZNAME:CET
DTSTART:20251026T010000
END:STANDARD
BEGIN:DAYLIGHT
TZOFFSETFROM:+0100
TZOFFSETTO:+0200
TZNAME:CEST
DTSTART:20260329T010000
END:DAYLIGHT
BEGIN:STANDARD
TZOFFSETFROM:+0200
TZOFFSETTO:+0100
TZNAME:CET
DTSTART:20261025T010000
END:STANDARD
END:VTIMEZONE
BEGIN:VEVENT
DTSTART;TZID=Europe/Berlin:20250509T113000
DTEND;TZID=Europe/Berlin:20250509T200000
DTSTAMP:20260420T211115
CREATED:20250210T144549Z
LAST-MODIFIED:20250411T074627Z
UID:10000056-1746790200-1746820800@seggelke-staging.sech-dev.de
SUMMARY:Clarinet exhibition in Staufen im Breisgau
DESCRIPTION:In May\, the Clarimondo clarinet workshop will take place at the BDB Music Academy in Staufen im Breisgau (Hochschwarzwald district). On Friday and Saturday we will be presenting a small selection of our clarinets as part of the klangART exhibition. This is also accessible without participating in the workshop.
URL:https://seggelke-staging.sech-dev.de/en/veranstaltung/clarinet-exhibition-in-staufen-im-breisgau/2025-05-09/
LOCATION:BDB Music Academy Staufen\, Gewerbestrasse 5\, Staufen im Breisgau\, Baden-Württemberg\, 79219\, Germany
ATTACH;FMTTYPE=image/jpeg:https://seggelke-staging.sech-dev.de/wp-content/uploads/2024/04/logo-klangArt-600-400x196-1.jpg
ORGANIZER;CN="Federation of German Brass Music Associations":MAILTO:info@bdb-online.de
END:VEVENT
BEGIN:VEVENT
DTSTART;TZID=Europe/Berlin:20250510T090000
DTEND;TZID=Europe/Berlin:20250510T200000
DTSTAMP:20260420T211115
CREATED:20250210T144549Z
LAST-MODIFIED:20250411T074627Z
UID:10000057-1746867600-1746907200@seggelke-staging.sech-dev.de
SUMMARY:Clarinet exhibition in Staufen im Breisgau
DESCRIPTION:In May\, the Clarimondo clarinet workshop will take place at the BDB Music Academy in Staufen im Breisgau (Hochschwarzwald district). On Friday and Saturday we will be presenting a small selection of our clarinets as part of the klangART exhibition. This is also accessible without participating in the workshop.
URL:https://seggelke-staging.sech-dev.de/en/veranstaltung/clarinet-exhibition-in-staufen-im-breisgau/2025-05-10/
LOCATION:BDB Music Academy Staufen\, Gewerbestrasse 5\, Staufen im Breisgau\, Baden-Württemberg\, 79219\, Germany
ATTACH;FMTTYPE=image/jpeg:https://seggelke-staging.sech-dev.de/wp-content/uploads/2024/04/logo-klangArt-600-400x196-1.jpg
ORGANIZER;CN="Federation of German Brass Music Associations":MAILTO:info@bdb-online.de
END:VEVENT
END:VCALENDAR