BEGIN:VCALENDAR
VERSION:2.0
PRODID:-//Seggelke Klarinetten GmbH | Bamberg - ECPv6.15.17.1//NONSGML v1.0//EN
CALSCALE:GREGORIAN
METHOD:PUBLISH
X-WR-CALNAME:Seggelke Klarinetten GmbH | Bamberg
X-ORIGINAL-URL:https://seggelke-staging.sech-dev.de/en/
X-WR-CALDESC:Events for Seggelke Klarinetten GmbH | Bamberg
REFRESH-INTERVAL;VALUE=DURATION:PT1H
X-Robots-Tag:noindex
X-PUBLISHED-TTL:PT1H
BEGIN:VTIMEZONE
TZID:Europe/Berlin
BEGIN:DAYLIGHT
TZOFFSETFROM:+0100
TZOFFSETTO:+0200
TZNAME:CEST
DTSTART:20240331T010000
END:DAYLIGHT
BEGIN:STANDARD
TZOFFSETFROM:+0200
TZOFFSETTO:+0100
TZNAME:CET
DTSTART:20241027T010000
END:STANDARD
BEGIN:DAYLIGHT
TZOFFSETFROM:+0100
TZOFFSETTO:+0200
TZNAME:CEST
DTSTART:20250330T010000
END:DAYLIGHT
BEGIN:STANDARD
TZOFFSETFROM:+0200
TZOFFSETTO:+0100
TZNAME:CET
DTSTART:20251026T010000
END:STANDARD
BEGIN:DAYLIGHT
TZOFFSETFROM:+0100
TZOFFSETTO:+0200
TZNAME:CEST
DTSTART:20260329T010000
END:DAYLIGHT
BEGIN:STANDARD
TZOFFSETFROM:+0200
TZOFFSETTO:+0100
TZNAME:CET
DTSTART:20261025T010000
END:STANDARD
END:VTIMEZONE
BEGIN:VEVENT
DTSTART;VALUE=DATE:20250404
DTEND;VALUE=DATE:20250407
DTSTAMP:20260420T191540
CREATED:20241125T105418Z
LAST-MODIFIED:20241126T140447Z
UID:10000016-1743724800-1743983999@seggelke-staging.sech-dev.de
SUMMARY:Music fair akustika 2025 in Nuremberg
DESCRIPTION:Save the date!\nFrom 04. to 06.04.2025 is again the Musikmesse akustika in Nuremberg! We will also be represented with a stand in 2025.\nWe are looking forward to a successful trade fair weekend. You will find us at the Nuremberg trade fair in NCC Ost on the 3rd floor at stand K02 (room: foyer).
URL:https://seggelke-staging.sech-dev.de/en/veranstaltung/music-fair-akustika-2025-in-nuremberg/
LOCATION:akustika Nuremberg\, Exhibition center 1\, Nuremberg\, 90471\, Germany
ATTACH;FMTTYPE=image/jpeg:https://seggelke-staging.sech-dev.de/wp-content/uploads/2024/07/img_5823-1-1.jpg
END:VEVENT
BEGIN:VEVENT
DTSTART;TZID=Europe/Berlin:20250426T100000
DTEND;TZID=Europe/Berlin:20250426T180000
DTSTAMP:20260420T191540
CREATED:20241126T130540Z
LAST-MODIFIED:20250317T110437Z
UID:10000046-1745661600-1745690400@seggelke-staging.sech-dev.de
SUMMARY:Open workshop days
DESCRIPTION:On the weekend of April 26 and 27  we open the workshop doors again for our in-house exhibition. \nWe invite you to try out our instruments and clarinet accessories\, to visit the production rooms of our workshop and to talk to us. You can also expect a colorful concert program by international friends of Seggelke clarinets. And socializing should not be neglected either. \nOpen workshop days\nSaturday 10 am – 6 pm\, Sunday 10 am – 2 pm\nTry out our extensive range of Schwenk&Seggelke and Seggelke-Line clarinets and historical replicas from JSB. We also have a large selection of clarinet accessories\, and case manufacturer Bernhard Kösling ( be.case) will have a stand on site. There will also be some special offers.\nWe also offer guided tours of our production facilities and the wood store.   Get to know our variety of wood types and find out how many steps are necessary to make a unique clarinet. \nConcerts in the KLAngwerkstatt: see separate events\nSaturday: Clarinet music from the classical period to the present day \n6 p.m. Clarimonia \n7 p.m. Duo Cernavca \nSunday: Sound diplomacy from Luxembourg \n11 a.m. Luxembourg Clarinet Ambassadors \n 
URL:https://seggelke-staging.sech-dev.de/en/veranstaltung/open-workshop-days-concerts-in-the-klangwerkstatt/2025-04-26/
LOCATION:Seggelke Klarinetten\, Obere Königstraße 15\, Bamberg\, Bavaria\, 96052\, Germany
CATEGORIES:KLAngwerkstatt
ATTACH;FMTTYPE=image/jpeg:https://seggelke-staging.sech-dev.de/wp-content/uploads/2024/11/hausmesse-scaled-e1731079737244.jpg
END:VEVENT
BEGIN:VEVENT
DTSTART;TZID=Europe/Berlin:20250426T180000
DTEND;TZID=Europe/Berlin:20250426T190000
DTSTAMP:20260420T191540
CREATED:20250310T102654Z
LAST-MODIFIED:20250324T102929Z
UID:10000049-1745690400-1745694000@seggelke-staging.sech-dev.de
SUMMARY:Concert: Clarimonia - Clarinet music from the classical period to the present day
DESCRIPTION:The ensemble “Clarimonia” (Bernhard Kösling\, Ekkehard Sauer\, Jochen Seggelke) takes us back to the time of Viennese Classicism\, played on historical replicas of clarinets and basset horns from the period. Together with Anton Säckl (Göttingen)\, they will play arrangements from the Prague music collection of Prince Clam-Gallas.\nThe musicians will then play the piece ‘Clarimonia’\, which was composed for them by Slava Cernavca. With its dance rhythms and melodies\, it takes us to the eastern Danube countries\, where the musical roots of the Munich-based composer lie.
URL:https://seggelke-staging.sech-dev.de/en/veranstaltung/concert-clarimonia-clarinet-music-from-the-classical-period-to-the-present-day/
LOCATION:Seggelke Klarinetten\, Obere Königstraße 15\, Bamberg\, Bavaria\, 96052\, Germany
CATEGORIES:KLAngwerkstatt
ATTACH;FMTTYPE=image/jpeg:https://seggelke-staging.sech-dev.de/wp-content/uploads/2025/03/seggelke-clarimonia-1.jpeg
END:VEVENT
BEGIN:VEVENT
DTSTART;TZID=Europe/Berlin:20250426T190000
DTEND;TZID=Europe/Berlin:20250426T210000
DTSTAMP:20260420T191540
CREATED:20250310T103649Z
LAST-MODIFIED:20250324T102930Z
UID:10000051-1745694000-1745701200@seggelke-staging.sech-dev.de
SUMMARY:Concert: Duo Cernavca - "Contrasts"
DESCRIPTION:The Munich duo Cernavca (clarinet: Slava Cernavca\, piano: Zoryana Tkachyk-Cernavca) presents its program “Contrasts”. They will play works by Johann Sebastian Bach\, Witold Lutoslawski and Erwin Schulhoff as well as their own compositions and improvisations.  \nJust as yin and yang are opposites that form a unity\, the clarinet and piano in Duo Cernavca come together to form a complementary whole. The elegant performance\, based on classical traditions\, is combined with daring\, sometimes even provocative interpretations that take the listener into the seductive and mysterious realm of sounds and the wonderful world of music that lies in the penumbra.  \nMany years of experience in partnership ensure an extensive repertoire covering almost all epochs and genres. Even the most hardened music lover with his subtle demands will find his expectations exceeded and discover a newly opened door that invites him to further shared experiences…  \nThe concert consists of two parts. \nAfter all concerts and during the breaks\, there are small appetizers and always a full glass according to taste. Admission to the concerts is free\, but we would be delighted if you would make an appropriate donation to enable the small-scale culture with KLArinettenanteil at Obere Königstraße 15 to continue in the future.
URL:https://seggelke-staging.sech-dev.de/en/veranstaltung/concert-duo-cernavca-contrasts/
LOCATION:Seggelke Klarinetten\, Obere Königstraße 15\, Bamberg\, Bavaria\, 96052\, Germany
CATEGORIES:KLAngwerkstatt
ATTACH;FMTTYPE=image/jpeg:https://seggelke-staging.sech-dev.de/wp-content/uploads/2025/03/seggelke-duo-cernavca-1.jpeg
END:VEVENT
BEGIN:VEVENT
DTSTART;TZID=Europe/Berlin:20250427T100000
DTEND;TZID=Europe/Berlin:20250427T140000
DTSTAMP:20260420T191540
CREATED:20241126T130540Z
LAST-MODIFIED:20250317T110437Z
UID:10000047-1745748000-1745762400@seggelke-staging.sech-dev.de
SUMMARY:Open workshop days
DESCRIPTION:On the weekend of April 26 and 27  we open the workshop doors again for our in-house exhibition. \nWe invite you to try out our instruments and clarinet accessories\, to visit the production rooms of our workshop and to talk to us. You can also expect a colorful concert program by international friends of Seggelke clarinets. And socializing should not be neglected either. \nOpen workshop days\nSaturday 10 am – 6 pm\, Sunday 10 am – 2 pm\nTry out our extensive range of Schwenk&Seggelke and Seggelke-Line clarinets and historical replicas from JSB. We also have a large selection of clarinet accessories\, and case manufacturer Bernhard Kösling ( be.case) will have a stand on site. There will also be some special offers.\nWe also offer guided tours of our production facilities and the wood store.   Get to know our variety of wood types and find out how many steps are necessary to make a unique clarinet. \nConcerts in the KLAngwerkstatt: see separate events\nSaturday: Clarinet music from the classical period to the present day \n6 p.m. Clarimonia \n7 p.m. Duo Cernavca \nSunday: Sound diplomacy from Luxembourg \n11 a.m. Luxembourg Clarinet Ambassadors \n 
URL:https://seggelke-staging.sech-dev.de/en/veranstaltung/open-workshop-days-concerts-in-the-klangwerkstatt/2025-04-27/
LOCATION:Seggelke Klarinetten\, Obere Königstraße 15\, Bamberg\, Bavaria\, 96052\, Germany
CATEGORIES:KLAngwerkstatt
ATTACH;FMTTYPE=image/jpeg:https://seggelke-staging.sech-dev.de/wp-content/uploads/2024/11/hausmesse-scaled-e1731079737244.jpg
END:VEVENT
BEGIN:VEVENT
DTSTART;TZID=Europe/Berlin:20250427T110000
DTEND;TZID=Europe/Berlin:20250427T123000
DTSTAMP:20260420T191540
CREATED:20250310T104114Z
LAST-MODIFIED:20250324T102930Z
UID:10000053-1745751600-1745757000@seggelke-staging.sech-dev.de
SUMMARY:Concert: Luxembourg Clarinet Ambassadors
DESCRIPTION:The Luxembourg Clarinet Ambassadors will play for the musical finale of our in-house exhibition. Founded in 2023 by the board members of the Luxembourg Clarinet Association\, the ensemble brings together orchestral musicians\, teachers and instrument makers from different nations – each with their own musical tradition. Whether as an intimate trio or an impressive octet\, whether with a lively E-flat clarinet or a sonorous contrabass clarinet – the Ambassadors show how versatile their family of instruments sounds. In addition to original works and arrangements\, the members are actively involved in new music and regularly commission composers from their home country to write works for clarinet.    \nTheir passport is already well filled: After their debut at the European Clarinet Congress in Tilburg (2023)\, invitations to the ICA ClarinetFest in Dublin (2024) and the European Clarinet Congress in Salerno (2024) followed. The Ambassadors will perform the closing concert at the Parc Hosingen International Clarinet Competition (2025). However\, their diplomatic missions not only take them to big stages – but also to places where music is often missing: hospitals\, care homes and social institutions.   \nIn Bamberg\, the ensemble will perform as a sextet\, consisting of Jean-Luc Blasius\, Romain Gross\, Mirjan Hasi\, Max Mausen\, Conny Steinmetz and Simone Weber. \nAfter all concerts and during the breaks\, there are small appetizers and always a full glass according to taste. Admission to the concerts is free\, but we would be delighted if you would make an appropriate donation to enable the small-scale culture with KLArinettenanteil at Obere Königstraße 15 to continue in the future.
URL:https://seggelke-staging.sech-dev.de/en/veranstaltung/concert-luxembourg-clarinet-ambassadors/
LOCATION:Seggelke Klarinetten\, Obere Königstraße 15\, Bamberg\, Bavaria\, 96052\, Germany
CATEGORIES:KLAngwerkstatt
ATTACH;FMTTYPE=image/jpeg:https://seggelke-staging.sech-dev.de/wp-content/uploads/2025/03/seggelke-luxembourg-clarinet-ambassadors.jpg
END:VEVENT
END:VCALENDAR