BEGIN:VCALENDAR
VERSION:2.0
PRODID:-//Seggelke Klarinetten GmbH | Bamberg - ECPv6.15.17.1//NONSGML v1.0//EN
CALSCALE:GREGORIAN
METHOD:PUBLISH
X-ORIGINAL-URL:https://seggelke-staging.sech-dev.de/en/
X-WR-CALDESC:Events for Seggelke Klarinetten GmbH | Bamberg
REFRESH-INTERVAL;VALUE=DURATION:PT1H
X-Robots-Tag:noindex
X-PUBLISHED-TTL:PT1H
BEGIN:VTIMEZONE
TZID:Europe/Berlin
BEGIN:DAYLIGHT
TZOFFSETFROM:+0100
TZOFFSETTO:+0200
TZNAME:CEST
DTSTART:20230326T010000
END:DAYLIGHT
BEGIN:STANDARD
TZOFFSETFROM:+0200
TZOFFSETTO:+0100
TZNAME:CET
DTSTART:20231029T010000
END:STANDARD
BEGIN:DAYLIGHT
TZOFFSETFROM:+0100
TZOFFSETTO:+0200
TZNAME:CEST
DTSTART:20240331T010000
END:DAYLIGHT
BEGIN:STANDARD
TZOFFSETFROM:+0200
TZOFFSETTO:+0100
TZNAME:CET
DTSTART:20241027T010000
END:STANDARD
BEGIN:DAYLIGHT
TZOFFSETFROM:+0100
TZOFFSETTO:+0200
TZNAME:CEST
DTSTART:20250330T010000
END:DAYLIGHT
BEGIN:STANDARD
TZOFFSETFROM:+0200
TZOFFSETTO:+0100
TZNAME:CET
DTSTART:20251026T010000
END:STANDARD
END:VTIMEZONE
BEGIN:VEVENT
DTSTART;VALUE=DATE:20240630
DTEND;VALUE=DATE:20240706
DTSTAMP:20260420T153740
CREATED:20241126T130353Z
LAST-MODIFIED:20241126T140449Z
UID:10000022-1719705600-1720223999@seggelke-staging.sech-dev.de
SUMMARY:Prague Clarinet Days 2024
DESCRIPTION:The 13th Prague Clarinet Days will take place from 30.06.2024 to 05.07.2024!\nOn 30.06. Clarimonia play together with Irvin Venyš in the evening.\nWe will also be among the exhibitors. \nMore info here
URL:https://seggelke-staging.sech-dev.de/en/veranstaltung/prague-clarinet-days-2024/
LOCATION:Prague\, Czech Republic
ATTACH;FMTTYPE=image/png:https://seggelke-staging.sech-dev.de/wp-content/uploads/2024/05/ueberschrift-hinzufuegen-2-1.png
END:VEVENT
END:VCALENDAR