BEGIN:VCALENDAR
VERSION:2.0
PRODID:-//Seggelke Klarinetten GmbH | Bamberg - ECPv6.15.17.1//NONSGML v1.0//EN
CALSCALE:GREGORIAN
METHOD:PUBLISH
X-WR-CALNAME:Seggelke Klarinetten GmbH | Bamberg
X-ORIGINAL-URL:https://seggelke-staging.sech-dev.de
X-WR-CALDESC:Veranstaltungen für Seggelke Klarinetten GmbH | Bamberg
REFRESH-INTERVAL;VALUE=DURATION:PT1H
X-Robots-Tag:noindex
X-PUBLISHED-TTL:PT1H
BEGIN:VTIMEZONE
TZID:Europe/Berlin
BEGIN:DAYLIGHT
TZOFFSETFROM:+0100
TZOFFSETTO:+0200
TZNAME:CEST
DTSTART:20240331T010000
END:DAYLIGHT
BEGIN:STANDARD
TZOFFSETFROM:+0200
TZOFFSETTO:+0100
TZNAME:CET
DTSTART:20241027T010000
END:STANDARD
BEGIN:DAYLIGHT
TZOFFSETFROM:+0100
TZOFFSETTO:+0200
TZNAME:CEST
DTSTART:20250330T010000
END:DAYLIGHT
BEGIN:STANDARD
TZOFFSETFROM:+0200
TZOFFSETTO:+0100
TZNAME:CET
DTSTART:20251026T010000
END:STANDARD
BEGIN:DAYLIGHT
TZOFFSETFROM:+0100
TZOFFSETTO:+0200
TZNAME:CEST
DTSTART:20260329T010000
END:DAYLIGHT
BEGIN:STANDARD
TZOFFSETFROM:+0200
TZOFFSETTO:+0100
TZNAME:CET
DTSTART:20261025T010000
END:STANDARD
END:VTIMEZONE
BEGIN:VEVENT
DTSTART;VALUE=DATE:20251010
DTEND;VALUE=DATE:20251012
DTSTAMP:20260423T102715
CREATED:20250812T085923Z
LAST-MODIFIED:20250812T085923Z
UID:10000068-1760054400-1760227199@seggelke-staging.sech-dev.de
SUMMARY:Jochen Seggelke im Blashaus (CH)
DESCRIPTION:Jochen Seggelke ist zu Besuch bei unserem langjährigen Schweizer Partner Das Blashaus.\nAm 10. und 11. Oktober besucht er die Werkstatt in Luzern. Dort könnt ihr Euch von Ihm zu Zubehör und Instrumenten beraten lassen\, außerdem sind kleinere Arbeiten an Instrumenten möglich. Terminvereinbarungen mit Jochen Seggelke bitte direkt beim Blashaus vereinbaren!
URL:https://seggelke-staging.sech-dev.de/veranstaltung/jochen-blashaus2025/
LOCATION:Das Blashaus Luzern\, Geissensteinring 41\, Luzern\, 6005\, Switzerland
ATTACH;FMTTYPE=image/jpeg:https://seggelke-staging.sech-dev.de/wp-content/uploads/2024/09/Silvia_Silvia_blashaus2023_1.jpg_compressed-e1727095013309.jpeg
END:VEVENT
END:VCALENDAR