BEGIN:VCALENDAR
VERSION:2.0
PRODID:-//Seggelke Klarinetten GmbH | Bamberg - ECPv6.15.17.1//NONSGML v1.0//EN
CALSCALE:GREGORIAN
METHOD:PUBLISH
X-WR-CALNAME:Seggelke Klarinetten GmbH | Bamberg
X-ORIGINAL-URL:https://seggelke-staging.sech-dev.de
X-WR-CALDESC:Veranstaltungen für Seggelke Klarinetten GmbH | Bamberg
REFRESH-INTERVAL;VALUE=DURATION:PT1H
X-Robots-Tag:noindex
X-PUBLISHED-TTL:PT1H
BEGIN:VTIMEZONE
TZID:Europe/Berlin
BEGIN:DAYLIGHT
TZOFFSETFROM:+0100
TZOFFSETTO:+0200
TZNAME:CEST
DTSTART:20240331T010000
END:DAYLIGHT
BEGIN:STANDARD
TZOFFSETFROM:+0200
TZOFFSETTO:+0100
TZNAME:CET
DTSTART:20241027T010000
END:STANDARD
BEGIN:DAYLIGHT
TZOFFSETFROM:+0100
TZOFFSETTO:+0200
TZNAME:CEST
DTSTART:20250330T010000
END:DAYLIGHT
BEGIN:STANDARD
TZOFFSETFROM:+0200
TZOFFSETTO:+0100
TZNAME:CET
DTSTART:20251026T010000
END:STANDARD
BEGIN:DAYLIGHT
TZOFFSETFROM:+0100
TZOFFSETTO:+0200
TZNAME:CEST
DTSTART:20260329T010000
END:DAYLIGHT
BEGIN:STANDARD
TZOFFSETFROM:+0200
TZOFFSETTO:+0100
TZNAME:CET
DTSTART:20261025T010000
END:STANDARD
END:VTIMEZONE
BEGIN:VEVENT
DTSTART;TZID=Europe/Berlin:20250315T100000
DTEND;TZID=Europe/Berlin:20250316T150000
DTSTAMP:20260420T135637
CREATED:20241128T110813Z
LAST-MODIFIED:20250310T102234Z
UID:10000030-1742032800-1742137200@seggelke-staging.sech-dev.de
SUMMARY:Seggelke-Tage bei “Die Holzbläser” in Berlin
DESCRIPTION:Am 14. und 15. März sind wir zu Besuch bei “Die Holzbläser” in Berlin. \n\nDort könnt ihr unsere Seggelke Klarinetten ausprobieren\, von historischen Nachbauten bis zu den moderen der Seggelke-Line und Schwenk&Seggelke. Die Ausstellung findet am Freitag von 10-18 Uhr statt\, am Samstag von 10-15 Uhr.\nFür musikalische Abwechslung sorgt Jochen Seggelke persönlich mit dem Ensemble „Clarimonia“ (gemeinsam mit Bernhard Kösling und Ekkehard Sauer).\n\n\n\nAm Freitag bietet Prof. Prof. Shirley Brill Einzelunterricht an. Informationen zur Anmeldung erhaltet Ihr direkt bei “Die Holzbläser”.\nAm Freitagabend findet ab 18 Uhr ein Konzert mit Clarimonia und dem Duo Brillaner (Shirley Brill & Jonathan Aner) statt.
URL:https://seggelke-staging.sech-dev.de/veranstaltung/holzblaeser-berlin/2025-03-15/
LOCATION:DIE HOLZBLÄSER Musikinstrumente und Zubehör GmbH\, Trautenaustr. 24\, Berlin\, 10717\, Germany
ATTACH;FMTTYPE=image/png:https://seggelke-staging.sech-dev.de/wp-content/uploads/2024/11/LUST-AUF-KLARINETTE-bei-DIE-HOLZLAESER-2.png
END:VEVENT
BEGIN:VEVENT
DTSTART;TZID=Europe/Berlin:20250314T100000
DTEND;TZID=Europe/Berlin:20250314T190000
DTSTAMP:20260420T135637
CREATED:20241128T110813Z
LAST-MODIFIED:20250310T102234Z
UID:10000029-1741946400-1741978800@seggelke-staging.sech-dev.de
SUMMARY:Seggelke-Tage bei “Die Holzbläser” in Berlin
DESCRIPTION:Am 14. und 15. März sind wir zu Besuch bei “Die Holzbläser” in Berlin. \n\nDort könnt ihr unsere Seggelke Klarinetten ausprobieren\, von historischen Nachbauten bis zu den moderen der Seggelke-Line und Schwenk&Seggelke. Die Ausstellung findet am Freitag von 10-18 Uhr statt\, am Samstag von 10-15 Uhr.\nFür musikalische Abwechslung sorgt Jochen Seggelke persönlich mit dem Ensemble „Clarimonia“ (gemeinsam mit Bernhard Kösling und Ekkehard Sauer).\n\n\n\nAm Freitag bietet Prof. Prof. Shirley Brill Einzelunterricht an. Informationen zur Anmeldung erhaltet Ihr direkt bei “Die Holzbläser”.\nAm Freitagabend findet ab 18 Uhr ein Konzert mit Clarimonia und dem Duo Brillaner (Shirley Brill & Jonathan Aner) statt.
URL:https://seggelke-staging.sech-dev.de/veranstaltung/holzblaeser-berlin/2025-03-14/
LOCATION:DIE HOLZBLÄSER Musikinstrumente und Zubehör GmbH\, Trautenaustr. 24\, Berlin\, 10717\, Germany
ATTACH;FMTTYPE=image/png:https://seggelke-staging.sech-dev.de/wp-content/uploads/2024/11/LUST-AUF-KLARINETTE-bei-DIE-HOLZLAESER-2.png
END:VEVENT
END:VCALENDAR